BEGIN:VCALENDAR
VERSION:2.0
PRODID:-//Library Market//iCal Export//EN
BEGIN:VEVENT
SUMMARY:KidStruction Lab
UID:16306
DTSTAMP:20260423T153200Z
DTSTART:20260512T200000Z
DTEND:20260512T223000Z
LOCATION:Welles-Turner Memorial Library, 2407 Main St, Glastonbury, CT 060
 33, United States
ROOM: Children&#039;s Story Nook
DESCRIPTION:Suggested for ages 4 through grade 6No registration needed, ju
 st drop in during the timeframe. On Tuesday afternoons the Children&#039;
 s Story Nook will be transformed into the KidStruction Lab. Each week we w
 ill bring out one of our STEAM or building sets.
URL:https://wtmlib.librarycalendar.com/event/kidstruction-lab-16306
END:VEVENT
END:VCALENDAR
