BEGIN:VCALENDAR
VERSION:2.0
PRODID:-//Library Market//iCal Export//EN
BEGIN:VEVENT
SUMMARY:Beginner Container Gardening with GPIP
UID:17546
DTSTAMP:20260425T145000Z
DTSTART:20260622T223000Z
DTEND:20260623T000000Z
LOCATION:Welles-Turner Memorial Library, 2407 Main St, Glastonbury, CT 060
 33, United States
ROOM: Friends Room
DESCRIPTION:Join us for an engaging evening of planter design, presented b
 y Glastonbury Partners in Planting!This presentation will introduce basic 
 design concepts for container gardening. Explore a few different planting 
 themes, such as native plants, perennials, herbs, and options for sun and 
 shade. Enjoy a demonstration of a couple of planter arrangements and gathe
 r general ideas to help guide your at-home designs.We’ll conclude with a
  step outside to view the GPIP planters located around the WTML grounds, o
 ffering real-life examples and inspiration for your own gardening projects
 .There will be plenty of time for questions, making this a great opportuni
 ty to learn and explore your options with fellow planting enthusiasts.Stay
  ahead of the crowd—be the first to know about events for adults by sign
 ing up for our monthly adult programs newsletter. Click here to sign up!
URL:https://wtmlib.librarycalendar.com/event/adult-event-17546
END:VEVENT
END:VCALENDAR
