BEGIN:VCALENDAR
VERSION:2.0
PRODID:-//Library Market//iCal Export//EN
BEGIN:VEVENT
SUMMARY:Star Wars Day
UID:19645
DTSTAMP:20260425T172900Z
DTSTART:20260504T140000Z
DTEND:20260505T000000Z
LOCATION:Welles-Turner Memorial Library, 2407 Main St, Glastonbury, CT 060
 33, United States
ROOM: Children&#039;s Department
DESCRIPTION:Suggested for families with kids ages 4-12No registration need
 edToday, in a library not so far away we will be celebrating STAR WARS DAY
 !  Young Padawans can fly over to the Children&#039;s Department to parti
 cipate in a scavenger hunt to find the wandering wookie, decorate a droid,
  and test their skills on more out-of-this-world activities! Simple activ
 ities for preschoolers available at 10:00am. Additional school-age activit
 ies added at 3:00pm.May the 4th Be With You! 
URL:https://wtmlib.librarycalendar.com/event/star-wars-day-19645
END:VEVENT
END:VCALENDAR
