BEGIN:VCALENDAR
VERSION:2.0
PRODID:-//Library Market//iCal Export//EN
BEGIN:VEVENT
SUMMARY:Comic Crew: Captain Underpants
UID:19646
DTSTAMP:20260423T153200Z
DTSTART:20260513T193000Z
DTEND:20260513T203000Z
LOCATION:Welles-Turner Memorial Library, 2407 Main St, Glastonbury, CT 060
 33, United States
ROOM: Friends Room
DESCRIPTION:For kids in grades 2-6Registration begins April 29 for residen
 ts; May 11 for nonresidentsTra-la-laaa! Captain Underpants is getting a c
 razy makeover. His first chapter book has been turned into a manga adventu
 re. Participants will be treated to a sneak peek of this all-new manga mas
 terpiece, followed by “supa” fun drawing exercises created by Dav Pilk
 ey himself.
URL:https://wtmlib.librarycalendar.com/event/comic-crew-19646
END:VEVENT
END:VCALENDAR
