BEGIN:VCALENDAR
VERSION:2.0
PRODID:-//Library Market//iCal Export//EN
BEGIN:VEVENT
SUMMARY:Intro to Coding - Python &amp; Java
UID:19732
DTSTAMP:20260425T194100Z
DTSTART:20260713T180000Z
DTEND:20260713T200000Z
LOCATION:Welles-Turner Memorial Library, 2407 Main St, Glastonbury, CT 060
 33, United States
ROOM: 2CF Studio
DESCRIPTION:Registration Required:Ages: Middle School Children - 7th &amp;
  8th GradeUnlock your inner creator and learn to speak the language of com
 puters with this hands-on Java and Python workshop! We’ll start with sim
 ple commands and work our way up to building multi-level coding projects t
 hat bring your ideas to life. You’ll become a tech explorer, discovering
  the secret shortcuts and cool differences that make these two famous lang
 uages so powerful!*Each session is a standalone workshop, so feel free to 
 pick the single date that works best for you! Since the content is the sam
 e each time, only one registration per person is needed.*
URL:https://wtmlib.librarycalendar.com/event/intro-coding-python-java-1973
 2
END:VEVENT
END:VCALENDAR
